BEGIN:VCALENDAR
VERSION:2.0
PRODID:-//hacksw/handcal//NONSGML v1.0//EN
CALSCALE:GREGORIAN
BEGIN:VEVENT
DTEND:20070901T143000Z
UID:69e98840a1073
DTSTAMP:20260423T034728Z
LOCATION:2143 Großkrut
DESCRIPTION:10km Rundekurs - T-Shirt für jeden Teilnehmer im Haupt und Hobblauf. Anschließend Kellerbergfest!
URL;VALUE=URI:
SUMMARY:14. Großkruter Kellerberglauf
DTSTART:20070831T230000Z
END:VEVENT
END:VCALENDAR
An internal server error occurred.