BEGIN:VCALENDAR
VERSION:2.0
PRODID:-//hacksw/handcal//NONSGML v1.0//EN
CALSCALE:GREGORIAN
BEGIN:VEVENT
DTEND:20070825T150000Z
UID:69e95695ac3d8
DTSTAMP:20260423T001533Z
LOCATION:2183 Neusiedl a d Zaya (Weinviertel)
DESCRIPTION:Genau vermessener 6km Rundkurs. Lauf im Rahmen des Weinviertler Laufcups. Nordic Walking!
URL;VALUE=URI:
SUMMARY:5. Neusiedler Winradlauf
DTSTART:20070824T230000Z
END:VEVENT
END:VCALENDAR
An internal server error occurred.