BEGIN:VCALENDAR
VERSION:2.0
PRODID:-//hacksw/handcal//NONSGML v1.0//EN
CALSCALE:GREGORIAN
BEGIN:VEVENT
DTEND:20070818T160000Z
UID:69e93d30be7a0
DTSTAMP:20260422T222712Z
LOCATION:2273 Hohenau a d March
DESCRIPTION:2 Runden durch die Au. Start und Anmeldung beim Aubad
URL;VALUE=URI:
SUMMARY:Hohenauer Sommerlauf
DTSTART:20070817T230000Z
END:VEVENT
END:VCALENDAR
An internal server error occurred.