BEGIN:VCALENDAR
VERSION:2.0
PRODID:-//hacksw/handcal//NONSGML v1.0//EN
CALSCALE:GREGORIAN
BEGIN:VEVENT
DTEND:20070804T173000Z
UID:69e8635bd0ee5
DTSTAMP:20260422T065747Z
LOCATION:2130 Mistelbach
DESCRIPTION:Start im Sportzentrum Mistelbach - Kinderläufe. Siegerehrung im Anschluß in der Sommerszene Mistelbach.
URL;VALUE=URI:
SUMMARY:5. Mistelbacher Panoramalauf
DTSTART:20070803T230000Z
END:VEVENT
END:VCALENDAR
An internal server error occurred.