BEGIN:VCALENDAR
VERSION:2.0
PRODID:-//hacksw/handcal//NONSGML v1.0//EN
CALSCALE:GREGORIAN
BEGIN:VEVENT
DTEND:20070512T151500Z
UID:69e81234c169e
DTSTAMP:20260422T011132Z
LOCATION:2162 Falkeinstein
DESCRIPTION:Selektiver Lauf mit wunderschönen Landschaftlichen Teilen. 220HM
URL;VALUE=URI:
SUMMARY:13.Falkensteiner Bergerichtslauf
DTSTART:20070511T230000Z
END:VEVENT
END:VCALENDAR
An internal server error occurred.