BEGIN:VCALENDAR
VERSION:2.0
PRODID:-//hacksw/handcal//NONSGML v1.0//EN
CALSCALE:GREGORIAN
BEGIN:VEVENT
DTEND:20070602T173000Z
UID:69e741946e680
DTSTAMP:20260421T102124Z
LOCATION:2232 Deutsch-Wagram
DESCRIPTION:
URL;VALUE=URI:
SUMMARY:23. Deutsch-Wagramer Lauftag
DTSTART:20070601T230000Z
END:VEVENT
END:VCALENDAR
An internal server error occurred.