BEGIN:VCALENDAR
VERSION:2.0
PRODID:-//hacksw/handcal//NONSGML v1.0//EN
CALSCALE:GREGORIAN
BEGIN:VEVENT
DTEND:20070708T130000Z
UID:69e85f1cc273c
DTSTAMP:20260422T063940Z
LOCATION:4144 Oberkappel
DESCRIPTION:Grenzüberschreitender Rundenlauf durch das Ortszentrum von Oberkappel.
URL;VALUE=URI:
SUMMARY:18. Zwei-Länder-Lauf
DTSTART:20070707T230000Z
END:VEVENT
END:VCALENDAR
An internal server error occurred.