BEGIN:VCALENDAR
VERSION:2.0
PRODID:-//hacksw/handcal//NONSGML v1.0//EN
CALSCALE:GREGORIAN
BEGIN:VEVENT
DTEND:20070905T180000Z
UID:69e93d2f9779f
DTSTAMP:20260422T222711Z
LOCATION:4020 LInz
DESCRIPTION:
URL;VALUE=URI:
SUMMARY:6. WKO-Businesslauf
DTSTART:20070904T230000Z
END:VEVENT
END:VCALENDAR
An internal server error occurred.