BEGIN:VCALENDAR
VERSION:2.0
PRODID:-//hacksw/handcal//NONSGML v1.0//EN
CALSCALE:GREGORIAN
BEGIN:VEVENT
DTEND:20070510T173000Z
UID:69e5066f7d664
DTSTAMP:20260419T174431Z
LOCATION:3500 Krems
DESCRIPTION:Angeboten werden Staffel- und Einzelläufe in zahlreichen Kategorien. 
URL;VALUE=URI:
SUMMARY:Campus Lauf Krems
DTSTART:20070509T230000Z
END:VEVENT
END:VCALENDAR
An internal server error occurred.