BEGIN:VCALENDAR
VERSION:2.0
PRODID:-//hacksw/handcal//NONSGML v1.0//EN
CALSCALE:GREGORIAN
BEGIN:VEVENT
DTEND:20070811T160000Z
UID:69ed1a11e17be
DTSTAMP:20260425T204625Z
LOCATION:3720 Ravelsbach
DESCRIPTION:Abschlusslauf des Schmidataler Laufcups 2007 - mit Siegerehrung in der Ravelsbacher Mehrzweckhalle.

Die Siegerehrung des Schmidataler Laufcups findet bei einem geselligen Abend am 25. August beim Heurigen Stopfer in Minichhofen statt!
URL;VALUE=URI:
SUMMARY:Ravelsbacher Marktlauf
DTSTART:20070810T230000Z
END:VEVENT
END:VCALENDAR
An internal server error occurred.