BEGIN:VCALENDAR
VERSION:2.0
PRODID:-//hacksw/handcal//NONSGML v1.0//EN
CALSCALE:GREGORIAN
BEGIN:VEVENT
DTEND:20070528T090000Z
UID:69e73ac9c4141
DTSTAMP:20260421T095225Z
LOCATION:3704 Glaubendorf
DESCRIPTION:2. Lauf des Schmidataler Laufcups 2007
URL;VALUE=URI:
SUMMARY:Heldenberger Radetzkylauf
DTSTART:20070527T230000Z
END:VEVENT
END:VCALENDAR
An internal server error occurred.