BEGIN:VCALENDAR
VERSION:2.0
PRODID:-//hacksw/handcal//NONSGML v1.0//EN
CALSCALE:GREGORIAN
BEGIN:VEVENT
DTEND:20070422T090000Z
UID:69e8121eed7e0
DTSTAMP:20260422T011110Z
LOCATION:3711 Großmeiseldorf
DESCRIPTION:Startbewerb des Schmidataler Laufcups 2007
URL;VALUE=URI:
SUMMARY:Großmeiseldorfer Frühlingslauf
DTSTART:20070421T230000Z
END:VEVENT
END:VCALENDAR
An internal server error occurred.