BEGIN:VCALENDAR
VERSION:2.0
PRODID:-//hacksw/handcal//NONSGML v1.0//EN
CALSCALE:GREGORIAN
BEGIN:VEVENT
DTEND:20070707T160000Z
UID:69e859d990bd7
DTSTAMP:20260422T061713Z
LOCATION:4850 Timelkam
DESCRIPTION:Pasta for everyone
URL;VALUE=URI:
SUMMARY:22.Vöckla Ufer Lauf
DTSTART:20070706T230000Z
END:VEVENT
END:VCALENDAR
An internal server error occurred.