BEGIN:VCALENDAR
VERSION:2.0
PRODID:-//hacksw/handcal//NONSGML v1.0//EN
CALSCALE:GREGORIAN
BEGIN:VEVENT
DTEND:20070701T093000Z
UID:69e8235d4f039
DTSTAMP:20260422T022445Z
LOCATION:9583 Faak am See
DESCRIPTION:Speziell geschnürte Hotelpackages beinhalten die Teilnahmegebühr an den Bewerben. Gut gefüllte Starterpakete und tolle Preise für sämtliche Klasseneinteilungen.
Große Tombola und Verlosung für alle Besucher!

URL;VALUE=URI:
SUMMARY:2. Internationaler ODLO Faakerseelauf
DTSTART:20070630T230000Z
END:VEVENT
END:VCALENDAR
An internal server error occurred.