BEGIN:VCALENDAR
VERSION:2.0
PRODID:-//hacksw/handcal//NONSGML v1.0//EN
CALSCALE:GREGORIAN
BEGIN:VEVENT
DTEND:20070819T080000Z
UID:69e956975d407
DTSTAMP:20260423T001535Z
LOCATION:5723 Uttendorf/Weißsee
DESCRIPTION:Der Internationale 4 Seen Berglauf ist einer der härtesten Berglaufbewerbe im deutschsprachigen Raum. Auf 23\,4 Kilometern sind 1.520 Höhenmeter zu bewältigen. Der Name kommt von den 4 Seen\, die beim Lauf passiert werden
URL;VALUE=URI:
SUMMARY:Internationaler 4-Seen-Berglauf
DTSTART:20070818T230000Z
END:VEVENT
END:VCALENDAR
An internal server error occurred.