BEGIN:VCALENDAR
VERSION:2.0
PRODID:-//hacksw/handcal//NONSGML v1.0//EN
CALSCALE:GREGORIAN
BEGIN:VEVENT
DTEND:20070415T090000Z
UID:69e54fb5659c2
DTSTAMP:20260419T225709Z
LOCATION:64347 Griesheim
DESCRIPTION:Schnelle\, flache Strecken\, aims-vermessen\, mit Tempomacher\, Verlosung von Freistarts Mainz\, Mannheim und Frankfurt Marathon
URL;VALUE=URI:
SUMMARY:36. Griesheimer Merck-Straßenlauf
DTSTART:20070414T230000Z
END:VEVENT
END:VCALENDAR
An internal server error occurred.