BEGIN:VCALENDAR
VERSION:2.0
PRODID:-//hacksw/handcal//NONSGML v1.0//EN
CALSCALE:GREGORIAN
BEGIN:VEVENT
DTEND:20070714T113000Z
UID:69e81221edf00
DTSTAMP:20260422T011113Z
LOCATION:5020 Uttendorf
DESCRIPTION:Preisgeld € 3.300\,-
URL;VALUE=URI:
SUMMARY:Top Race 2007
DTSTART:20070713T230000Z
END:VEVENT
END:VCALENDAR
An internal server error occurred.