BEGIN:VCALENDAR
VERSION:2.0
PRODID:-//hacksw/handcal//NONSGML v1.0//EN
CALSCALE:GREGORIAN
BEGIN:VEVENT
DTEND:20070630T150000Z
UID:69e7a357778f9
DTSTAMP:20260421T171831Z
LOCATION:5723 Uttendorf
DESCRIPTION:Internationale Radsportwoche für Jedermann in der Ferienregion Nationalpark Hohe Tauern (Rennrad/MTB).
30.06. - 07.072007
5 Etappen - Bergzeitfahren & Straßenrennen
URL;VALUE=URI:
SUMMARY:Lucien Van Impe-Classic 2007
DTSTART:20070629T230000Z
END:VEVENT
END:VCALENDAR
An internal server error occurred.