BEGIN:VCALENDAR
VERSION:2.0
PRODID:-//hacksw/handcal//NONSGML v1.0//EN
CALSCALE:GREGORIAN
BEGIN:VEVENT
DTEND:20070818T150000Z
UID:69e93d35e869e
DTSTAMP:20260422T222717Z
LOCATION:64380 Roßdorf
DESCRIPTION:
URL;VALUE=URI:
SUMMARY:Ortskernlauf Roßdorf
DTSTART:20070817T230000Z
END:VEVENT
END:VCALENDAR
An internal server error occurred.