BEGIN:VCALENDAR
VERSION:2.0
PRODID:-//hacksw/handcal//NONSGML v1.0//EN
CALSCALE:GREGORIAN
BEGIN:VEVENT
DTEND:20070727T180000Z
UID:69e859dd0faae
DTSTAMP:20260422T061717Z
LOCATION:2979 Geierswalde
DESCRIPTION:3-Tageveranstaltung in Deutschlands größter Landschaftsbaustelle
Disziplinen: Laufen\, Walken\, Skaten\, Radeln
URL;VALUE=URI:
SUMMARY:Lausitzer Seenland 100
DTSTART:20070726T230000Z
END:VEVENT
END:VCALENDAR
An internal server error occurred.