BEGIN:VCALENDAR
VERSION:2.0
PRODID:-//hacksw/handcal//NONSGML v1.0//EN
CALSCALE:GREGORIAN
BEGIN:VEVENT
DTEND:20070422T093000Z
UID:69e5066d15604
DTSTAMP:20260419T174429Z
LOCATION:3096 Burg/Spreewald
DESCRIPTION:Größte Breitensportveranstaltung im Bundesland Brandenburg mit über 5000 Startern
Disziplinen: Laufen\, Walken\, Wandern\, Skaten\, Radeln\, Paddeln\, Feiern
URL;VALUE=URI:
SUMMARY:5. AOK-SpreewaldMarathon
DTSTART:20070421T230000Z
END:VEVENT
END:VCALENDAR
An internal server error occurred.