BEGIN:VCALENDAR
VERSION:2.0
PRODID:-//hacksw/handcal//NONSGML v1.0//EN
CALSCALE:GREGORIAN
BEGIN:VEVENT
DTEND:20070520T090000Z
UID:69e623a3a21e8
DTSTAMP:20260420T140123Z
LOCATION:5360 St. Wolfgang
DESCRIPTION:Start: Talstation\, 540m NN
Dorneralpe 2\,7km - 1011m NN
Schafbergalpe 4\,2km - 1366m NN
Schafbergspitze 5\,83km - 1780m NN
URL;VALUE=URI:
SUMMARY:6. Schafberglauf
DTSTART:20070519T230000Z
END:VEVENT
END:VCALENDAR
An internal server error occurred.