BEGIN:VCALENDAR
VERSION:2.0
PRODID:-//hacksw/handcal//NONSGML v1.0//EN
CALSCALE:GREGORIAN
BEGIN:VEVENT
DTEND:20070617T130000Z
UID:69e73ac63d34e
DTSTAMP:20260421T095222Z
LOCATION:9220 Velden am Wörthersee
DESCRIPTION:
URL;VALUE=URI:
SUMMARY:2. Velden Pago Triathlon
DTSTART:20070616T230000Z
END:VEVENT
END:VCALENDAR
An internal server error occurred.