BEGIN:VCALENDAR
VERSION:2.0
PRODID:-//hacksw/handcal//NONSGML v1.0//EN
CALSCALE:GREGORIAN
BEGIN:VEVENT
DTEND:20070429T090000Z
UID:69e58cf30e882
DTSTAMP:20260420T031827Z
LOCATION:7072 Mörbisch am See
DESCRIPTION:
URL;VALUE=URI:
SUMMARY:16. Neusiedler See Radmarathon
DTSTART:20070428T230000Z
END:VEVENT
END:VCALENDAR
An internal server error occurred.