BEGIN:VCALENDAR
VERSION:2.0
PRODID:-//hacksw/handcal//NONSGML v1.0//EN
CALSCALE:GREGORIAN
BEGIN:VEVENT
DTEND:20070428T130000Z
UID:69e5e221d19b6
DTSTAMP:20260420T092153Z
LOCATION:7072 Mörbisch
DESCRIPTION:
URL;VALUE=URI:
SUMMARY:7. Mörbischer Lauftag
DTSTART:20070427T230000Z
END:VEVENT
END:VCALENDAR
An internal server error occurred.