BEGIN:VCALENDAR
VERSION:2.0
PRODID:-//hacksw/handcal//NONSGML v1.0//EN
CALSCALE:GREGORIAN
BEGIN:VEVENT
DTEND:20070528T170000Z
UID:69e65fc432d87
DTSTAMP:20260420T181756Z
LOCATION:4442 Zwenkau
DESCRIPTION:
URL;VALUE=URI:
SUMMARY:Neuseen Classics
DTSTART:20070527T230000Z
END:VEVENT
END:VCALENDAR
An internal server error occurred.