BEGIN:VCALENDAR
VERSION:2.0
PRODID:-//hacksw/handcal//NONSGML v1.0//EN
CALSCALE:GREGORIAN
BEGIN:VEVENT
DTEND:20070519T170000Z
UID:69e59f96ad9f4
DTSTAMP:20260420T043758Z
LOCATION:50126 Bergheim Paffendorf
DESCRIPTION:
URL;VALUE=URI:
SUMMARY:Powerlauf Bergheim Paffendorf
DTSTART:20070518T230000Z
END:VEVENT
END:VCALENDAR
An internal server error occurred.