BEGIN:VCALENDAR
VERSION:2.0
PRODID:-//hacksw/handcal//NONSGML v1.0//EN
CALSCALE:GREGORIAN
BEGIN:VEVENT
DTEND:20070908T133000Z
UID:69e93d3549f38
DTSTAMP:20260422T222717Z
LOCATION:7201 Neudörfl
DESCRIPTION:stimmungsvoller Lauf im Rahmen des Neudörfler Dorffestes!
URL;VALUE=URI:
SUMMARY:5. Bgld. Feuerwehrlauf
DTSTART:20070907T230000Z
END:VEVENT
END:VCALENDAR
An internal server error occurred.