BEGIN:VCALENDAR
VERSION:2.0
PRODID:-//hacksw/handcal//NONSGML v1.0//EN
CALSCALE:GREGORIAN
BEGIN:VEVENT
DTEND:20070609T103000Z
UID:69e9adbd56119
DTSTAMP:20260423T062725Z
LOCATION:8691 Altenberg an der Rax
DESCRIPTION:inmitten der wunderbaren Natur vom Naturpark Mürzer Oberland! Entlang der Wasserstraße in Altenberg an der Rax. 11.30 Startnummernausgabe im Kulturhaus Altenberg/Rax
URL;VALUE=URI:
SUMMARY:6. Altenberger Wasserstraßenlauf
DTSTART:20070608T230000Z
END:VEVENT
END:VCALENDAR
An internal server error occurred.