BEGIN:VCALENDAR
VERSION:2.0
PRODID:-//hacksw/handcal//NONSGML v1.0//EN
CALSCALE:GREGORIAN
BEGIN:VEVENT
DTEND:20070902T070000Z
UID:69e972c4be328
DTSTAMP:20260423T021548Z
LOCATION:8410 Wildon
DESCRIPTION:
URL;VALUE=URI:
SUMMARY:16. Wildoner Thermen Radmarathon
DTSTART:20070901T230000Z
END:VEVENT
END:VCALENDAR
An internal server error occurred.