BEGIN:VCALENDAR
VERSION:2.0
PRODID:-//hacksw/handcal//NONSGML v1.0//EN
CALSCALE:GREGORIAN
BEGIN:VEVENT
DTEND:20070902T091500Z
UID:69e956994e35f
DTSTAMP:20260423T001537Z
LOCATION:84503 Altötting
DESCRIPTION:Schnellster Naturlauf der Welt (SR: 1:01:47/1:09:13). Flach\, windgeschützt\, off. vermessen. Stimmungsmeile. Gratis Funktions-T-Shirt\, Stimmungsmeile. Mitglied bei 'German Road Races'
URL;VALUE=URI:
SUMMARY:16. Int. OMV Halbmarathon Altötting
DTSTART:20070901T230000Z
END:VEVENT
END:VCALENDAR
An internal server error occurred.