BEGIN:VCALENDAR
VERSION:2.0
PRODID:-//hacksw/handcal//NONSGML v1.0//EN
CALSCALE:GREGORIAN
BEGIN:VEVENT
DTEND:20070622T200000Z
UID:69e859dc3b6bd
DTSTAMP:20260422T061716Z
LOCATION:3240 Mank
DESCRIPTION:
URL;VALUE=URI:
SUMMARY:UNIQA  1 - Stundenlauf von Mank 
DTSTART:20070621T230000Z
END:VEVENT
END:VCALENDAR
An internal server error occurred.