BEGIN:VCALENDAR
VERSION:2.0
PRODID:-//hacksw/handcal//NONSGML v1.0//EN
CALSCALE:GREGORIAN
BEGIN:VEVENT
DTEND:20070623T230000Z
UID:69e7b7568fcd5
DTSTAMP:20260421T184350Z
LOCATION:2491 Neufeld an der Leitha
DESCRIPTION:
URL;VALUE=URI:
SUMMARY:20. TRI-Neufeld 
DTSTART:20070623T230000Z
END:VEVENT
END:VCALENDAR
An internal server error occurred.