BEGIN:VCALENDAR
VERSION:2.0
PRODID:-//hacksw/handcal//NONSGML v1.0//EN
CALSCALE:GREGORIAN
BEGIN:VEVENT
DTEND:20070603T080000Z
UID:69e6c9ebd2af5
DTSTAMP:20260421T015051Z
LOCATION:3874 Litschau
DESCRIPTION:Rookie Sprint oder Staffel: 0\,75/23/4\,7 km
Waldviertler Eisenmann:
2\,3/85/21 km
URL;VALUE=URI:
SUMMARY:3. Waldviertler Eisenmann
DTSTART:20070602T230000Z
END:VEVENT
END:VCALENDAR
An internal server error occurred.