BEGIN:VCALENDAR
VERSION:2.0
PRODID:-//hacksw/handcal//NONSGML v1.0//EN
CALSCALE:GREGORIAN
BEGIN:VEVENT
DTEND:20070909T081500Z
UID:69ed1a11cb039
DTSTAMP:20260425T204625Z
LOCATION:2700 Wr. Neustadt
DESCRIPTION:Schöner Lauf auf Parkwegen im Akademiepark Wiener Neustadt. 
URL;VALUE=URI:
SUMMARY:15. Akademieparklauf Wr. Neustadt
DTSTART:20070908T230000Z
END:VEVENT
END:VCALENDAR
An internal server error occurred.