BEGIN:VCALENDAR
VERSION:2.0
PRODID:-//hacksw/handcal//NONSGML v1.0//EN
CALSCALE:GREGORIAN
BEGIN:VEVENT
DTEND:20070902T130000Z
UID:69e92cba1a2a2
DTSTAMP:20260422T211658Z
LOCATION:8510 Stainz
DESCRIPTION:31. August bis 02. September 2007
URL;VALUE=URI:
SUMMARY:18. Stainzer Schilcherlauf
DTSTART:20070901T230000Z
END:VEVENT
END:VCALENDAR
An internal server error occurred.