BEGIN:VCALENDAR
VERSION:2.0
PRODID:-//hacksw/handcal//NONSGML v1.0//EN
CALSCALE:GREGORIAN
BEGIN:VEVENT
DTEND:20070727T180000Z
UID:69ecb7ef4f358
DTSTAMP:20260425T134743Z
LOCATION:9500 Villach
DESCRIPTION:Firmenwertung
URL;VALUE=URI:
SUMMARY:7. Sparkassen Citylauf Villach
DTSTART:20070726T230000Z
END:VEVENT
END:VCALENDAR
An internal server error occurred.