BEGIN:VCALENDAR
VERSION:2.0
PRODID:-//hacksw/handcal//NONSGML v1.0//EN
CALSCALE:GREGORIAN
BEGIN:VEVENT
DTEND:20070909T090000Z
UID:69e99519e9dda
DTSTAMP:20260423T044217Z
LOCATION:5350 Strobl am Wolfgangsee
DESCRIPTION:
URL;VALUE=URI:
SUMMARY:Wolfgangsee Challenge - Der X-Triathlon
DTSTART:20070908T230000Z
END:VEVENT
END:VCALENDAR
An internal server error occurred.