BEGIN:VCALENDAR
VERSION:2.0
PRODID:-//hacksw/handcal//NONSGML v1.0//EN
CALSCALE:GREGORIAN
BEGIN:VEVENT
DTEND:20070819T080000Z
UID:69e9568db4a30
DTSTAMP:20260423T001525Z
LOCATION:5330 Fuschl am See
DESCRIPTION:
URL;VALUE=URI:
SUMMARY:27. Int. Fuschlseelauf
DTSTART:20070818T230000Z
END:VEVENT
END:VCALENDAR
An internal server error occurred.