BEGIN:VCALENDAR
VERSION:2.0
PRODID:-//hacksw/handcal//NONSGML v1.0//EN
CALSCALE:GREGORIAN
BEGIN:VEVENT
DTEND:20070720T160000Z
UID:69e8b53a67081
DTSTAMP:20260422T124706Z
LOCATION:9570 Ossiach
DESCRIPTION:Kinder-\, Schüler- und Jugendlauf
von 0\,2km bis 2\,4km
URL;VALUE=URI:
SUMMARY:Ossiacher See Nachthalbmarathon
DTSTART:20070719T230000Z
END:VEVENT
END:VCALENDAR
An internal server error occurred.