BEGIN:VCALENDAR
VERSION:2.0
PRODID:-//hacksw/handcal//NONSGML v1.0//EN
CALSCALE:GREGORIAN
BEGIN:VEVENT
DTEND:20070603T083000Z
UID:69e679d50fd28
DTSTAMP:20260420T200909Z
LOCATION:5310 Mondsee
DESCRIPTION:
URL;VALUE=URI:
SUMMARY:26. Mondseeland Halbmarathon
DTSTART:20070602T230000Z
END:VEVENT
END:VCALENDAR
An internal server error occurred.