BEGIN:VCALENDAR
VERSION:2.0
PRODID:-//hacksw/handcal//NONSGML v1.0//EN
CALSCALE:GREGORIAN
BEGIN:VEVENT
DTEND:20070506T091500Z
UID:69e54faed1175
DTSTAMP:20260419T225702Z
LOCATION:4830 Hallstatt
DESCRIPTION:
URL;VALUE=URI:
SUMMARY:20. Int. Hallstättersee-Rundlauf
DTSTART:20070505T230000Z
END:VEVENT
END:VCALENDAR
An internal server error occurred.