BEGIN:VCALENDAR
VERSION:2.0
PRODID:-//hacksw/handcal//NONSGML v1.0//EN
CALSCALE:GREGORIAN
BEGIN:VEVENT
DTEND:20070506T090000Z
UID:69e4f27956e07
DTSTAMP:20260419T161921Z
LOCATION:7000 Eisenstadt
DESCRIPTION:
URL;VALUE=URI:
SUMMARY:3. Energy Run Eisenstadt
DTSTART:20070505T230000Z
END:VEVENT
END:VCALENDAR
An internal server error occurred.