BEGIN:VCALENDAR
VERSION:2.0
PRODID:-//hacksw/handcal//NONSGML v1.0//EN
CALSCALE:GREGORIAN
BEGIN:VEVENT
DTEND:20070422T090000Z
UID:69ecfe9f5d096
DTSTAMP:20260425T184919Z
LOCATION:2353 Guntramsdorf
DESCRIPTION:
URL;VALUE=URI:
SUMMARY:4. Guntramsdorfer Frühlingslauf Halbmarathon
DTSTART:20070421T230000Z
END:VEVENT
END:VCALENDAR
An internal server error occurred.