BEGIN:VCALENDAR
VERSION:2.0
PRODID:-//hacksw/handcal//NONSGML v1.0//EN
CALSCALE:GREGORIAN
BEGIN:VEVENT
DTEND:20070421T090000Z
UID:69e75d617e3bc
DTSTAMP:20260421T122001Z
LOCATION:3340 Waidhofen/Ybbs
DESCRIPTION:
URL;VALUE=URI:
SUMMARY:23. Int. Waidhofner Sparkassen Stadtlaut
DTSTART:20070420T230000Z
END:VEVENT
END:VCALENDAR
An internal server error occurred.