BEGIN:VCALENDAR
VERSION:2.0
PRODID:-//hacksw/handcal//NONSGML v1.0//EN
CALSCALE:GREGORIAN
BEGIN:VEVENT
DTEND:20070506T080000Z
UID:69e5e23cbb15c
DTSTAMP:20260420T092220Z
LOCATION:9300 St. Veit/ Glan
DESCRIPTION:Das Kärntner Lauf-High-Light in St. Veit/ Glan startet bereits zum vierten Mal!


URL;VALUE=URI:
SUMMARY:4. Uniqa Sonnenlauf St. Veit /Glan 
DTSTART:20070505T230000Z
END:VEVENT
END:VCALENDAR
An internal server error occurred.