BEGIN:VCALENDAR
VERSION:2.0
PRODID:-//hacksw/handcal//NONSGML v1.0//EN
CALSCALE:GREGORIAN
BEGIN:VEVENT
DTEND:20070311T090000Z
UID:69e638fd6babd
DTSTAMP:20260420T153229Z
LOCATION:1020 Wien
DESCRIPTION:
URL;VALUE=URI:
SUMMARY:LCC-Eisbärlauf III
DTSTART:20070310T230000Z
END:VEVENT
END:VCALENDAR
An internal server error occurred.