BEGIN:VCALENDAR
VERSION:2.0
PRODID:-//hacksw/handcal//NONSGML v1.0//EN
CALSCALE:GREGORIAN
BEGIN:VEVENT
DTEND:20070727T180000Z
UID:69e859dbd6aef
DTSTAMP:20260422T061715Z
LOCATION:3500 Furth/Palt
DESCRIPTION:
URL;VALUE=URI:
SUMMARY:7. Wachauer Brücken-Lauf 
DTSTART:20070726T230000Z
END:VEVENT
END:VCALENDAR
An internal server error occurred.