BEGIN:VCALENDAR
VERSION:2.0
PRODID:-//hacksw/handcal//NONSGML v1.0//EN
CALSCALE:GREGORIAN
BEGIN:VEVENT
DTEND:20070526T140000Z
UID:69e9892fbeb4c
DTSTAMP:20260423T035127Z
LOCATION:4180 Zwettl an der Rodl
DESCRIPTION:auch Kinder-\, Schüler- und Jugendläufe über kürzere Distanzen
URL;VALUE=URI:
SUMMARY:Zwettler 7-Brückenlauf 
DTSTART:20070525T230000Z
END:VEVENT
END:VCALENDAR
An internal server error occurred.