BEGIN:VCALENDAR
VERSION:2.0
PRODID:-//hacksw/handcal//NONSGML v1.0//EN
CALSCALE:GREGORIAN
BEGIN:VEVENT
DTEND:20070818T050000Z
UID:69e8f99c19403
DTSTAMP:20260422T173852Z
LOCATION:4159 Leipzig
DESCRIPTION:18. 100 km Lauf mit 19. Bayerischer und 16. Sächsischer Meisterschaft 100 km\,
13. 50 km Lauf\,
10 km Rundkurs nach IAAF-Regeln vermessen\, im nördlichen Auenwald Leipzigs\, 70% befest. Waldwege\, 30% Asphaltwege\, je Runde ca. 15 m Höhenunterschied.
Schnelle\, flache im Grünen\,
Verpflegung alle 3\,3 km\, Getränke zusätzl. nach 1\,6 und 5 km
URL;VALUE=URI:
SUMMARY:100 km Leipzig
DTSTART:20070817T230000Z
END:VEVENT
END:VCALENDAR
An internal server error occurred.